BEGIN:VCALENDAR
VERSION:2.0
PRODID:Events Booking
BEGIN:VEVENT
UID:69e9eb67dca4f
SUMMARY:Curso de Eletrocardiograma (ECG)
DESCRIPTION:O eletrocardiograma é um exame cardiológico de baixo custo e 
 de fácil realização que nos auxilia na condução de pacientes em situa
 ções e ambientes diversos\, direcionando condutas com assertividade e se
 gurança\, sendo fundamental a participação do profissional enfermeiro e
 m todo o processo que engloba sua indicação\, realização e interpreta
 ção em conjunto com a equipe multiprofissional.
 Ao fim do curso\, o al
 uno receberá o certificado de conclusão do Curso de Eletrocardiograma .
 
 &nbsp\;
 
 &nbsp\;
 &nbsp\;
LOCATION:Av. Gentil Bittencourt\, 1144.
DTSTART:20230916T110000Z
DTEND:20230916T150000Z
DTSTAMP:20230905T003716Z
ORGANIZER;CN=Portal de Eventos - Centro Universitário Fibra:MAILTO:eventos
 @fibrapara.edu.br
GEO:-1.455183;-48.482397
X-APPLE-STRUCTURED-LOCATION;VALUE=URI;X-ADDRESS=Av. Gentil Bittencourt\, 11
 44.;X-APPLE-RADIUS=72;X-TITLE=Centro Universitário Fibra:-1.455183;-48.48
 2397
END:VEVENT
END:VCALENDAR