BEGIN:VCALENDAR
VERSION:2.0
PRODID:Events Booking
BEGIN:VEVENT
UID:69e9ebe03cf3a
SUMMARY:Elaboração do Projeto de Pesquisa e Pesquisa Bibliográfica
DESCRIPTION:&nbsp\;Os alunos participantes do curso serão capazes de: Comp
 reender todas&nbsp\; as etapas da produção do Projeto de Pesquisa\; Conh
 ecer todos os elementos integrantes do Projeto de Pesquisa\; Discutir sobr
 e possíveis temas a serem pesquisados\; Entender a importância da pesqui
 sa para a produção acadêmica e Apreender técnicas de produção de tex
 tos acadêmicos autorais.
 
 Metodologia: Aula expositiva e dialogada e 
 produção textual comentada.
 &nbsp\;
 Curso aberto ao público externo
 .
 &nbsp\;
 &nbsp\;
 
LOCATION:Av. Gentil Bittencourt\, 1144.
DTSTART:20230125T220000Z
DTEND:20230126T010000Z
DTSTAMP:20221220T004009Z
ORGANIZER;CN=Portal de Eventos - Centro Universitário Fibra:MAILTO:eventos
 @fibrapara.edu.br
GEO:-1.455183;-48.482397
X-APPLE-STRUCTURED-LOCATION;VALUE=URI;X-ADDRESS=Av. Gentil Bittencourt\, 11
 44.;X-APPLE-RADIUS=72;X-TITLE=Centro Universitário Fibra:-1.455183;-48.48
 2397
END:VEVENT
END:VCALENDAR