BEGIN:VCALENDAR
VERSION:2.0
PRODID:Events Booking
BEGIN:VEVENT
UID:69e9fe75557e6
SUMMARY:Curso de Extensão \"Elaboração de Artigos Científicos\"
DESCRIPTION:O curso tem como objetivos capacitar o aluno a compreender os r
 equisitos e etapas necessários ao desenvolvimento de um artigo científic
 o apto a ser publicado em um periódico classificado pela CAPES/MEC\; indi
 car as etapas necessárias à construção de um projeto de artigo\; expor
  os requisitos e desafios ao desenvolvimento e conclusão de um artigo\; a
 presentar o sistema de classificação de periódicos da CAPES e expor a f
 orma de submissão de um artigo a um periódico indexado.
 Ao final do cu
 rso\, o aluno estará apto a formular um projeto de pesquisa e desenvolver
  a escrita de um artigo científico\, conhecendo as etapas necessárias à
  publicação do trabalho desenvolvido\, de forma a se capacitar e contrib
 uir para as discussões sobre o objeto por ele analisado. Espera-se que o 
 aluno conclua o curso com uma estrutura mínima para desenvolver um artigo
  por ele proposto.
 Público: graduandos e pós-graduandos da área das c
 iências sociais aplicadas e demais interessados.
 
LOCATION:Av. Gentil Bittencourt\, 1144.
DTSTART:20250906T113000Z
DTEND:20250906T160000Z
DTSTAMP:20250802T005049Z
ORGANIZER;CN=Portal de Eventos - Centro Universitário Fibra:MAILTO:eventos
 @fibrapara.edu.br
GEO:-1.455183;-48.482397
X-APPLE-STRUCTURED-LOCATION;VALUE=URI;X-ADDRESS=Av. Gentil Bittencourt\, 11
 44.;X-APPLE-RADIUS=72;X-TITLE=Centro Universitário Fibra:-1.455183;-48.48
 2397
END:VEVENT
END:VCALENDAR