BEGIN:VCALENDAR
VERSION:2.0
PRODID:Events Booking
BEGIN:VEVENT
UID:69e9eba262571
SUMMARY:Curso de Extensão \"Elaboração de Artigos Científicos\"
DESCRIPTION:O curso tem como objetivos capacitar o aluno a compreender os r
 equisitos e etapas necessários ao desenvolvimento de um artigo científic
 o apto a ser publicado em um periódico classificado pela CAPES/MEC\; indi
 car as etapas necessárias à construção de um projeto de artigo\; expor
  os requisitos e desafios ao desenvolvimento e conclusão de um artigo\; a
 presentar o sistema de classificação de periódicos da CAPES e expor a f
 orma de submissão de um artigo a um periódico indexado.Ao final do curso
 \, o aluno estará apto a formular um projeto de pesquisa e desenvolver a 
 escrita de um artigo científico\, conhecendo as etapas necessárias à pu
 blicação do trabalho desenvolvido\, de forma a se capacitar e contribuir
  para as discussões sobre o objeto por ele analisado. Espera-se que o alu
 no conclua o curso com uma estrutura mínima para desenvolver um artigo po
 r ele proposto.
 &nbsp\;
 Público: graduandos e pós-graduandos da áre
 a das ciências sociais aplicadas e demais interessados.
 &nbsp\;
 
LOCATION:Av. Gentil Bittencourt\, 1144.
DTSTART:20230916T113000Z
DTEND:20230916T173000Z
DTSTAMP:20230829T141748Z
ORGANIZER;CN=Portal de Eventos - Centro Universitário Fibra:MAILTO:eventos
 @fibrapara.edu.br
GEO:-1.455183;-48.482397
X-APPLE-STRUCTURED-LOCATION;VALUE=URI;X-ADDRESS=Av. Gentil Bittencourt\, 11
 44.;X-APPLE-RADIUS=72;X-TITLE=Centro Universitário Fibra:-1.455183;-48.48
 2397
END:VEVENT
END:VCALENDAR