BEGIN:VCALENDAR
VERSION:2.0
PRODID:Events Booking
BEGIN:VEVENT
UID:69e9446546dfc
SUMMARY:Minicurso Educadores Bilíngues: Formação e Profissionalização
DESCRIPTION:O minicurso tem como objetivo contribuir para a formação e a 
 profissionalização de educadores bilíngues no Brasil\, por meio da refl
 exão sobre fundamentos do bilinguismo\, práticas pedagógicas e metodolo
 gias intervencionistas. A proposta busca fortalecer competências linguís
 ticas e didáticas\, promover a articulação entre teoria e prática e va
 lorizar a atuação do educador bilíngue frente às demandas contemporân
 eas da educação.
 Garanta sua inscrição! (o curso só será confirmad
 o após o prenchimento de 15 vagas)
 
LOCATION:Av. Gentil Bittencourt\, 1144.
DTSTART:20260131T120000Z
DTEND:20260131T140000Z
DTSTAMP:20260115T155510Z
ORGANIZER;CN=Portal de Eventos - Centro Universitário Fibra:MAILTO:eventos
 @fibrapara.edu.br
GEO:-1.455183;-48.482397
X-APPLE-STRUCTURED-LOCATION;VALUE=URI;X-ADDRESS=Av. Gentil Bittencourt\, 11
 44.;X-APPLE-RADIUS=72;X-TITLE=Centro Universitário Fibra:-1.455183;-48.48
 2397
END:VEVENT
END:VCALENDAR