BEGIN:VCALENDAR
VERSION:2.0
PRODID:Events Booking
BEGIN:VEVENT
UID:69e9fd8fbc014
SUMMARY:Curso de Eletrocardiograma (ECG) - Teoria e Prática - NOITE
DESCRIPTION:O eletrocardiograma é um exame cardiológico de baixo custo e 
 de fácil realização que nos auxilia na condução de pacientes em situa
 ções e ambientes diversos\, direcionando condutas com assertividade e se
 gurança\, sendo fundamental a participação do profissional enfermeiro e
 m todo o processo que engloba sua indicação\, realização e interpreta
 ção em conjunto com a equipe multiprofissional.
 
LOCATION:Av. Gentil Bittencourt\, 1144.
DTSTART:20240614T210000Z
DTEND:20240614T220000Z
DTSTAMP:20240525T145506Z
ORGANIZER;CN=Portal de Eventos - Centro Universitário Fibra:MAILTO:eventos
 @fibrapara.edu.br
GEO:-1.455183;-48.482397
X-APPLE-STRUCTURED-LOCATION;VALUE=URI;X-ADDRESS=Av. Gentil Bittencourt\, 11
 44.;X-APPLE-RADIUS=72;X-TITLE=Centro Universitário Fibra:-1.455183;-48.48
 2397
END:VEVENT
END:VCALENDAR