BEGIN:VCALENDAR
VERSION:2.0
PRODID:Events Booking
BEGIN:VEVENT
UID:69e9fe75bf200
SUMMARY:Simpósio de doação de órgãos e tecidos humanos para fins de tr
 ansplante
DESCRIPTION:&nbsp\;A Rede Amazônica de Educação em Doação e Transplant
 es (AMEDOT)\, em parceria com o Curso de Psicologia\, do Centro Universit
 ário Fibra\, e a Central Estadual de Transplantes (CET/SESPA)\, tem a hon
 ra de convidar a comunidade acadêmica e profissional em geral para partic
 ipar do SIMPÓSIO DE DOAÇÃO E TECIDOS HUMANOS PARA FINS DE TRANSPLANTE. 
 Em alusão à Campanha do “Setembro Verde”\, o evento tem o objetivo d
 e apresentar e discutir aspectos sensíveis presentes na área\, contribui
 ndo para a formação e qualificação dos participantes\, além de suscit
 ar interesse para o fortalecimento da Rede AMEDOT e da área como um todo.
 
 &nbsp\;
 PROGRAMAÇÃO
 &nbsp\;Hora: 8:00 – 08:30h – Boas vindas 
 das instituiçõesAbertura do Simpósio:Convidado 1: O contexto de criaç
 ão da Rede AMEDOT- David Bichara. Médico e Biomédico. Doutor em Biologi
 a de Agentes Infecciosos e ParasitáriosConvidado 2: O Sistema Brasileiro 
 de Transplantes e o cenário geral do programa de doação e transplantes 
 no Estado do Pará - Alfredo Nazir Abud Neto. Médico Urologista. Coordena
 dor da Central Estadual de Transplantes (CET/SESPA)Convidado 3: Uma Rede d
 e Educação- Juliana Ingrid Ferreira Maia. Acadêmica de Enfermagem (Facu
 ldade Cosmopolita). Presidente da Rede AMEDOT.
 Hora: 08:30 – 10:00hMes
 a-Redonda: Do paciente crítico ao doador de órgãos e tecidosConvidado 1
 : A comunicação de notícias difíceis - Luiz Felipe Santiago Bittencour
 t. Médico Intensivista dos Hospitais Metropolitano de Urgência e Emergê
 ncia (HMUE) e Hospital Rio Mar.Convidado 2: A jornada do doador e o acolhi
 mento da família em situação de morte encefálica - Cristiane Kelly Wan
 zeler. Enfermeira da Comissão Intra Hospitalar de Doação de Órgãos e 
 Tecidos para Transplantes (CIHDOTT)\, do Hospital Metropolitano de Urgênc
 ia e Emergência (HMUE)Convidado 3: O protocolo clínico de morte encefál
 ica – desfazendo os nós! - João Augusto Cardoso da Costa. Médico Inte
 nsivista. Especialista em Doação e Transplantes\, Membro da Organizaçã
 o de Procura de Órgãos da Região Metropolitana de Belém (OPO/RMB)Convi
 dado 4: A entrevista familiar – atuação do profissional de comissões 
 de doação e transplantes - Susanny Chritie Oliveira de Macedo Barbosa. E
 nfermeira da CIHDOT (Fundação Hospital de Clínicas Gaspar Viana / FHCGV
 )Convidado 5: A distribuição de órgãos e tecidos e o sistema informati
 zado - Cláudio Levi Mascarenhas. Biomédico da Divisão de Regulação de
  Órgãos e Tecidos da Central Estadual de Transplantes (CET/SESPA). Membr
 o da Comissão de Educação e Cultura da Rede AMEDOT (CET/SESPA)
 INTERV
 ALO: 10:00 às 10:15h
 Hora: 10:15 -11:20hMesa-Redonda: Desafios éticos 
 e emocionais nas equipes de saúdeConvidado 1: O desafio ético de cuidar 
 e a dupla fidelização: o equilíbrio entre a necessidade de doadores e o
  cuidado paliativo/luto. - A confirmarConvidado 2: Dicas de boa comunicaç
 ão: Como manter uma abordagem ética e não coercitiva na conversa com a 
 família sobre doação. - Renata Lobato Kos. Psicóloga da CIHDOTT do Hos
 pital Ophir Loyola (HOL)Convidado 3: Crenças\, mitos e distorções sobre
  a doação de órgãos e tecidos para transplante. - Patrícia Simone Hen
 riques de Mendonça. Psicóloga. Divisão de Educação da Saúde (CET/SES
 PA). Membro\, Sócia fundadora da Rede AMEDOT.Convidado 4: O perfil dos pr
 ofissionais de saúde e a formação acadêmica no Programa de Transplante
 s - Maria Ierecê Miranda de Carvalho. Biomédica. Divisão de Regulação
  de Órgãos e Tecidos (CET/SESPA). Sócio Fundador e membro da Comissão 
 de Educação e Cultura da Rede AMEDOT.Convidado 5: Legado: o compromisso 
 da Psicologia com a humanização de serviços\, pessoas e processos. Guil
 herme Wady. Psicólogo. Coordenador do Curso de Psicologia (Fibra). Membro
  e Sócio Fundador da Rede AMEDOT.
 Hora: 11:20 – 11:40h.Palestra: Prof
 issionais e serviços na área de transplante – Conhecendo a Rede!Convid
 ada: Andrea da Silva Gonçalves. Assistente Social – Divisão de Credenc
 iamento e Demandas de Receptores (CET/SESPA)Hora: 11:40 – 12:00h.Palestr
 a: Tecnologia e educação em Transplante – da sala de aula ao centro ci
 rúrgicoConvidada: Raísa Lamara Cruz dos Santos. Médica Infectologista. 
 R5 Hepatologia Fundação Santa Casa de Misericórdia do Pará (FSCMPA)
 
 Encerramento 12:00h
 
LOCATION:Av. Gentil Bittencourt\, 1144.
DTSTART:20251003T110000Z
DTEND:20251003T150000Z
DTSTAMP:20250928T215622Z
ORGANIZER;CN=Portal de Eventos - Centro Universitário Fibra:MAILTO:eventos
 @fibrapara.edu.br
GEO:-1.455183;-48.482397
X-APPLE-STRUCTURED-LOCATION;VALUE=URI;X-ADDRESS=Av. Gentil Bittencourt\, 11
 44.;X-APPLE-RADIUS=72;X-TITLE=Centro Universitário Fibra:-1.455183;-48.48
 2397
END:VEVENT
END:VCALENDAR