BEGIN:VCALENDAR
VERSION:2.0
PRODID:Events Booking
BEGIN:VEVENT
UID:69e9e5b08a644
SUMMARY:Direito e Inteligência Artificial: filme The Artifice Girl (2022)
DESCRIPTION:No fechamento do semestre da disciplina Direito e Tecnologias D
 igitais das turmas DI03MA e DI03MB\, será exibido o filme The Artifice Gi
 rl. Logo após\, será feita uma análise do filme e posterior debate sobr
 e sua temática.
 &nbsp\;
 &nbsp\;
 O aguardado filme de ficção cient
 ífica sombria&nbsp\;The Artifice Girl&nbsp\;foi premiado como Melhor Long
 a Internacional no Fantasia Film Festival 2022 e é&nbsp\;dirigido por Fra
 nklin Ritch.&nbsp\;
 &nbsp\;
 Em&nbsp\;The Artifice Girl\, uma equipe de
  agentes especiais descobre uma inteligência artificial revolucionária c
 riada para atrair e prender predadores&nbsp\;online. Ao se unirem ao probl
 emático desenvolvedor do programa\, eles logo descobrem que a IA está av
 ançando rapidamente além de seu propósito original.
 &nbsp\;
 O elenc
 o conta com Tatum Matthews\, David Girard\, Sinda Nichols\, Franklin Ritch
  e Lance Henriksen. Franklin Ritch também é responsável pelo roteiro. (
 adaptado de&nbsp\;https://sanguetipob.blogspot.com/)
 &nbsp\;
 &nbsp\;

  Evento aberto ao público externo.
 OBS: atividade complementar apenas p
 ara alunos do turno da tarde e noite.
LOCATION:Av. Gentil Bittencourt\, 1144.
DTSTART:20230601T110000Z
DTEND:20230601T140000Z
DTSTAMP:20230526T153256Z
ORGANIZER;CN=Portal de Eventos - Centro Universitário Fibra:MAILTO:eventos
 @fibrapara.edu.br
GEO:-1.455183;-48.482397
X-APPLE-STRUCTURED-LOCATION;VALUE=URI;X-ADDRESS=Av. Gentil Bittencourt\, 11
 44.;X-APPLE-RADIUS=72;X-TITLE=Centro Universitário Fibra:-1.455183;-48.48
 2397
END:VEVENT
END:VCALENDAR