BEGIN:VCALENDAR
VERSION:2.0
PRODID:Events Booking
BEGIN:VEVENT
UID:69e9f96f48440
SUMMARY:Direito e Inteligência Artificial: filme The Artifice Girl (2022)
DESCRIPTION:Como introdução ao debate sobre Inteligência Artificial real
 izado na disicplina Direito e Tecnologias Digitais para as turmas DI03MA e
  DI03MB\, será exibido o filme The Artifice Girl. Logo após\, será feit
 a uma análise&nbsp\; e posterior debate sobre a temática&nbsp\;do filme.
 
 &nbsp\;
 &nbsp\;
 O aguardado filme de ficção científica sombria&n
 bsp\;The Artifice Girl&nbsp\;foi premiado como Melhor Longa Internacional 
 no Fantasia Film Festival 2022 e é&nbsp\;dirigido por Franklin Ritch.&nbs
 p\;
 &nbsp\;
 Em&nbsp\;The Artifice Girl\, uma equipe de agentes especia
 is descobre uma inteligência artificial revolucionária criada para atrai
 r e prender predadores&nbsp\;online. Ao se unirem ao problemático desenvo
 lvedor do programa\, eles logo descobrem que a IA está avançando rapidam
 ente além de seu propósito original.
 &nbsp\;
 O elenco conta com Tatu
 m Matthews\, David Girard\, Sinda Nichols\, Franklin Ritch e Lance Henriks
 en. Franklin Ritch também é responsável pelo roteiro. (adaptado de&nbsp
 \;https://sanguetipob.blogspot.com/)
 &nbsp\;
 &nbsp\;
 Evento aberto a
 o público externo.
 OBS: atividade complementar apenas para alunos do tu
 rno da tarde e noite.
 
LOCATION:Av. Gentil Bittencourt\, 1144.
DTSTART:20240509T110000Z
DTEND:20240509T130000Z
DTSTAMP:20230526T153256Z
ORGANIZER;CN=Portal de Eventos - Centro Universitário Fibra:MAILTO:eventos
 @fibrapara.edu.br
GEO:-1.455183;-48.482397
X-APPLE-STRUCTURED-LOCATION;VALUE=URI;X-ADDRESS=Av. Gentil Bittencourt\, 11
 44.;X-APPLE-RADIUS=72;X-TITLE=Centro Universitário Fibra:-1.455183;-48.48
 2397
END:VEVENT
END:VCALENDAR