BEGIN:VCALENDAR
VERSION:2.0
PRODID:Events Booking
BEGIN:VEVENT
UID:69e9f91beec5e
SUMMARY:Direito de Jogos e Apostas: um Oceano de Oportunidades Profissionai
 s
DESCRIPTION:Com a recente crescimento do debate sobre de jogos e apostas no
  Brasil\, o Direito se depara com um novo e dinâmico ramo que desponta co
 mo uma das áreas mais promissoras para a atuação de futuros advogados\,
 &nbsp\;abrindo portas para uma carreira que\, além de inovadora\, se posi
 ciona como um diferencial no mercado..
 Na palestra\, o Professor Jantali
 a vai apresentar uma visão geral da legislação e da organização do me
 rcado de jogos e apostas no Brasil e abordar os principais desafios e pol
 êmicas do momento.
LOCATION:Av. Gentil Bittencourt\, 1144.
DTSTART:20241113T213000Z
DTEND:20241114T153000Z
DTSTAMP:20241106T152352Z
ORGANIZER;CN=Portal de Eventos - Centro Universitário Fibra:MAILTO:eventos
 @fibrapara.edu.br
GEO:-1.455183;-48.482397
X-APPLE-STRUCTURED-LOCATION;VALUE=URI;X-ADDRESS=Av. Gentil Bittencourt\, 11
 44.;X-APPLE-RADIUS=72;X-TITLE=Centro Universitário Fibra:-1.455183;-48.48
 2397
END:VEVENT
END:VCALENDAR