BEGIN:VCALENDAR
VERSION:2.0
PRODID:Events Booking
BEGIN:VEVENT
UID:69e9f8dc6b8d6
SUMMARY:Palestra e lançamento do livro \"Direito Amazônico - compreensão
  inicial\"
DESCRIPTION:
DTSTART:20240515T213000Z
DTEND:20240515T230000Z
DTSTAMP:20240510T170214Z
ORGANIZER;CN=Portal de Eventos - Centro Universitário Fibra:MAILTO:eventos
 @fibrapara.edu.br
END:VEVENT
END:VCALENDAR