BEGIN:VCALENDAR
VERSION:2.0
PRODID:Events Booking
BEGIN:VEVENT
UID:69e9f91b13bef
SUMMARY:Dicas Quentes - ENADE/OAB
DESCRIPTION:Aulão com os Professores
 Natalia AltieriRobson SantosAna Lui
 za LealWalter Souza
 
LOCATION:Av. Gentil Bittencourt\, 1144.
DTSTART:20250215T113000Z
DTEND:20250215T153000Z
DTSTAMP:20250205T004044Z
ORGANIZER;CN=Portal de Eventos - Centro Universitário Fibra:MAILTO:eventos
 @fibrapara.edu.br
GEO:-1.455183;-48.482397
X-APPLE-STRUCTURED-LOCATION;VALUE=URI;X-ADDRESS=Av. Gentil Bittencourt\, 11
 44.;X-APPLE-RADIUS=72;X-TITLE=Centro Universitário Fibra:-1.455183;-48.48
 2397
END:VEVENT
END:VCALENDAR