BEGIN:VCALENDAR
VERSION:2.0
PRODID:Events Booking
BEGIN:VEVENT
UID:69e9eba160b01
SUMMARY:Diálogo entre uma jovem indígena e acadêmicos de psicologia
DESCRIPTION:Seguindo o compromisso assumido pelo Conselho Federal de Psicol
 ogia (CFP) e o Sistema Conselhos\, o Curso de Psicologia da Fibra trás es
 se importante debate para a formação de nossos alunos\, fundado nas Refe
 rências Técnicas para atuação de psicologas(os) junto aos Povos Indíg
 enas. Momento de construção de uma psicologia da Amazônia\, que dá vis
 ibilidade à resistência de seus povos. O evento coincide com o último d
 ia de realização do Acampamento Terra Livre\, maior assembleia indígena
  do país.
LOCATION:Av. Gentil Bittencourt\, 1144.
DTSTART:20240426T220000Z
DTEND:20240426T233000Z
DTSTAMP:20240423T220801Z
ORGANIZER;CN=Portal de Eventos - Centro Universitário Fibra:MAILTO:eventos
 @fibrapara.edu.br
GEO:-1.455183;-48.482397
X-APPLE-STRUCTURED-LOCATION;VALUE=URI;X-ADDRESS=Av. Gentil Bittencourt\, 11
 44.;X-APPLE-RADIUS=72;X-TITLE=Centro Universitário Fibra:-1.455183;-48.48
 2397
END:VEVENT
END:VCALENDAR