BEGIN:VCALENDAR
VERSION:2.0
PRODID:Events Booking
BEGIN:VEVENT
UID:69e9eb97b9c56
SUMMARY:FORMAÇÕES CONTEMPORÂNEAS EM PSICOLOGIA: DE ONDE VIEMOS\, O QUE C
 ONSTRUÍMOS E PARA ONDE DESEJAMOS IR?
DESCRIPTION:No próximo dia 27 de Agosto os profissionais de psicologia com
 emoram o Dia Nacional da(o) Psicóloga(o). A data foi escolhida para fazer
  alusão à publicação da Lei 4.119/1962 que regulamentou a Psicologia n
 o Brasil e foi instituída oficialmente em 2016\, por meio da Lei 13.407.
 
 Para comemorar data tão importante\, o Curso de Psicologia do Centro Un
 iversitário Fibra\, promoverá um encontro de profissionais\, discentes d
 o curso e de outras instituições para compartilhamento de experiências 
 de formação no contexto da Psicologia brasileira e amazônica. Na ocasi
 ão\, os profissionais convidados falarão de seus percursos formativos\, 
 refletindo criticamente sobre os mesmos a partir do contexto em que vivemo
 s.
 Então\, vem você também comemorar com a gente!!!
 
LOCATION:Av. Gentil Bittencourt\, 1144.
DTSTART:20240830T110000Z
DTEND:20240831T000000Z
DTSTAMP:20240822T140953Z
ORGANIZER;CN=Portal de Eventos - Centro Universitário Fibra:MAILTO:eventos
 @fibrapara.edu.br
GEO:-1.455183;-48.482397
X-APPLE-STRUCTURED-LOCATION;VALUE=URI;X-ADDRESS=Av. Gentil Bittencourt\, 11
 44.;X-APPLE-RADIUS=72;X-TITLE=Centro Universitário Fibra:-1.455183;-48.48
 2397
END:VEVENT
END:VCALENDAR