BEGIN:VCALENDAR
VERSION:2.0
PRODID:Events Booking
BEGIN:VEVENT
UID:69e930ed990a2
SUMMARY:Dia do Pedagogo
DESCRIPTION:Mesa redonda: Saberes Ambientais Amazônidas nos Territórios d
 a Vida -&nbsp\;Um olhar sobre os conhecimentos ancestrais e práticas soci
 oambientais nos campos\, nas águas e nas florestas amazônicas
 
LOCATION:Av. Gentil Bittencourt\, 1144.
DTSTART:20250520T220000Z
DTEND:20250521T000000Z
DTSTAMP:20250512T154201Z
ORGANIZER;CN=Portal de Eventos - Centro Universitário Fibra:MAILTO:eventos
 @fibrapara.edu.br
GEO:-1.455183;-48.482397
X-APPLE-STRUCTURED-LOCATION;VALUE=URI;X-ADDRESS=Av. Gentil Bittencourt\, 11
 44.;X-APPLE-RADIUS=72;X-TITLE=Centro Universitário Fibra:-1.455183;-48.48
 2397
END:VEVENT
END:VCALENDAR