BEGIN:VCALENDAR
VERSION:2.0
PRODID:Events Booking
BEGIN:VEVENT
UID:69e9027317e7a
SUMMARY:Dia do Patologista Veterinário
DESCRIPTION:A patologia animal é uma área em expansão dentro da medicina
  veterinária nacional\, devido à necessidade de profissionais qualificad
 os para a demanda crescente de animais de companhia contendo câncer auxil
 iando no diagnóstico oncológico bem como no de outras enfermidades\, e p
 ara auxiliar na área forense nos casos de crimes envolvendo animais. O ev
 ento ocorrerá em alusão ao dia do patologista veterinário. Sendo assim\
 , eventos técnicos e científicos como palestras\, promovem o entendiment
 o sobre a atuação desse profissional no mercado da medicina&nbsp\;veteri
 nária.
 
LOCATION:Av. Gentil Bittencourt\, 1144.
DTSTART:20240607T110000Z
DTEND:20240607T153000Z
DTSTAMP:20240604T212908Z
ORGANIZER;CN=Portal de Eventos - Centro Universitário Fibra:MAILTO:eventos
 @fibrapara.edu.br
GEO:-1.455183;-48.482397
X-APPLE-STRUCTURED-LOCATION;VALUE=URI;X-ADDRESS=Av. Gentil Bittencourt\, 11
 44.;X-APPLE-RADIUS=72;X-TITLE=Centro Universitário Fibra:-1.455183;-48.48
 2397
END:VEVENT
END:VCALENDAR