BEGIN:VCALENDAR
VERSION:2.0
PRODID:Events Booking
BEGIN:VEVENT
UID:69e8ece5619c6
SUMMARY:Dia do Nutricionista - Nutrição sem Fronteiras: Desafios e vivên
 cias 
DESCRIPTION:Venha Festejar através do conhecimento
 Dia 28/08/25
 14h O 
 Nutricionista em missões Pandêmicas
 15h Mesa Redonda: A Nutrição no 
 militarismo
 dia 29/08/25
 14h O Nutricionista atuando em OFFSHORE
 15h
  A Nutrição no Sistema Penitenciário
 16h - A Nutrição na assistênc
 ia indigenista
 
LOCATION:Av. Gentil Bittencourt\, 1144.
DTSTART:20250828T110000Z
DTEND:20250829T030000Z
DTSTAMP:20250818T150434Z
ORGANIZER;CN=Portal de Eventos - Centro Universitário Fibra:MAILTO:eventos
 @fibrapara.edu.br
GEO:-1.455183;-48.482397
X-APPLE-STRUCTURED-LOCATION;VALUE=URI;X-ADDRESS=Av. Gentil Bittencourt\, 11
 44.;X-APPLE-RADIUS=72;X-TITLE=Centro Universitário Fibra:-1.455183;-48.48
 2397
END:VEVENT
END:VCALENDAR