BEGIN:VCALENDAR
VERSION:2.0
PRODID:Events Booking
BEGIN:VEVENT
UID:69e944d2056e0
SUMMARY:Dia Nacional da Língua Brasileira de Sinais
DESCRIPTION:Em alusão ao&nbsp\;Dia Nacional da Língua Brasileira de Sinai
 s – Libras\, os Cursos de Extensão em Libras\, Básico e Avançado\, co
 nvidam toda a comunidade acadêmica\, assim como o público externo em ger
 al\, a assistir ao filme “A Família Belier”\, no dia 27 de abril\, à
 s 9h da manhã. Após a exibição do filme\, a professora Leilane Monteir
 o fará palestra sobre&nbsp\;a importância do uso da Libras em nossa soci
 edade e a sua valorização enquanto língua materna do surdo. Entrada fra
 nca.
 
LOCATION:Av. Gentil Bittencourt\, 1144.
DTSTART:20240427T120000Z
DTEND:20240427T150000Z
DTSTAMP:20240423T235737Z
ORGANIZER;CN=Portal de Eventos - Centro Universitário Fibra:MAILTO:eventos
 @fibrapara.edu.br
GEO:-1.455183;-48.482397
X-APPLE-STRUCTURED-LOCATION;VALUE=URI;X-ADDRESS=Av. Gentil Bittencourt\, 11
 44.;X-APPLE-RADIUS=72;X-TITLE=Centro Universitário Fibra:-1.455183;-48.48
 2397
END:VEVENT
END:VCALENDAR