BEGIN:VCALENDAR
VERSION:2.0
PRODID:Events Booking
BEGIN:VEVENT
UID:69e90312c02c6
SUMMARY:DIA MUNDIAL DE VIDA SELVAGEM
DESCRIPTION:No dia 03 de março é comemorado o Dia mundial de Vida Selvage
 m\, para celebrar este dia o curso de Medicina Veterinária promoverá um 
 ciclo de palestras com o objetivo de partilhar conhecimento e mostrar a im
 portância da multiplicidade de espécies para a Amazônia e para o mundo\
 , além de alertar sobre os perigos que ameaçam a fauna e a flora mundial
 . O evento contará com a participação de profissionais com expertise em
  temas de vida silvestre.
 Público Alvo: Estudantes de Medicina Veterin
 ária e Biologia\, Médicos Veterinários e Biólogos
 
LOCATION:Av. Gentil Bittencourt\, 1144.
DTSTART:20250306T170000Z
DTEND:20250306T210000Z
DTSTAMP:20250227T231020Z
ORGANIZER;CN=Portal de Eventos - Centro Universitário Fibra:MAILTO:eventos
 @fibrapara.edu.br
GEO:-1.455183;-48.482397
X-APPLE-STRUCTURED-LOCATION;VALUE=URI;X-ADDRESS=Av. Gentil Bittencourt\, 11
 44.;X-APPLE-RADIUS=72;X-TITLE=Centro Universitário Fibra:-1.455183;-48.48
 2397
END:VEVENT
END:VCALENDAR