BEGIN:VCALENDAR
VERSION:2.0
PRODID:Events Booking
BEGIN:VEVENT
UID:69e902a770706
SUMMARY:Dia Mundial do Gato
DESCRIPTION:A data foi instituída em 1931\, na cidade de Florença\, na It
 ália\, durante o Congresso Internacional de Proteção Animal que reuniu 
 ecologistas pioneiros na defesa dos animais. O objetivo foi reforçar as c
 ampanhas contra os maus tratos que os felinos sofrem e para a conscientiza
 ção da adoção de gatos abandonados. Os gatos são companheiros adoráv
 eis e fascinantes que\, juntamente com os cães\, são os animais domésti
 cos mais comuns. Os benefícios de viver com um gato são numerosos e vão
  desde a companhia amorosa e a redução do stress até à melhoria da nos
 sa saúde física e emocional. Estes adoráveis animais trazem alegria\, d
 iversão e apoio emocional à nossa vida quotidiana. Ele apresentam partic
 ularidades e patologias que merecem ser conhecidas. Venha aprender um pouc
 o mais sobre eles neste evento!
 &nbsp\;
 Público Alvo: Estudantes de M
 edicina Veterinária e Médicos Veterinários
 
LOCATION:Av. Gentil Bittencourt\, 1144.
DTSTART:20250217T170000Z
DTEND:20250217T210000Z
DTSTAMP:20250206T222408Z
ORGANIZER;CN=Portal de Eventos - Centro Universitário Fibra:MAILTO:eventos
 @fibrapara.edu.br
GEO:-1.455183;-48.482397
X-APPLE-STRUCTURED-LOCATION;VALUE=URI;X-ADDRESS=Av. Gentil Bittencourt\, 11
 44.;X-APPLE-RADIUS=72;X-TITLE=Centro Universitário Fibra:-1.455183;-48.48
 2397
END:VEVENT
END:VCALENDAR