BEGIN:VCALENDAR
VERSION:2.0
PRODID:Events Booking
BEGIN:VEVENT
UID:69e945690d644
SUMMARY:DIA INTERNACIONAL DA MULHER
DESCRIPTION:No&nbsp\;dia&nbsp\;7 de março\, antecipando a celebração do&
 nbsp\;Dia&nbsp\;Internacional&nbsp\;da&nbsp\;Mulher\, os cursos de Letras\
 , Pedagogia\, História\, Serviço Social e Psicologia do Centro Universit
 ário Fibra oferecerão à comunidade acadêmica e à sociedade em geral a
  seguinte programação:
 &nbsp\;
 18h
 Programação Cultural
 19h
 
 Palestra: Profa. Dra.&nbsp\;Luana Sullivan Bagarrão Guedes: O Papel do Fe
 minismo Negro na Reflexão sobre a Sociedade Brasileira
 20h
 Roda de Co
 nversa: Profa. Ma. Vânia Lucia Lemos Catete e Profa. Ma. Camila Lira Arag
 ão: Narrativas Femininas e Prática no Serviço Social: A Voz das Assiste
 ntes Sociais
 21h
 Palestra: Profa. Dra. Ana Lúcia Santos&nbsp\;da&nbsp
 \;Silva: Dona Ivone Lara: Saúde mental/saúde ancestral na cadência do s
 amba.
LOCATION:Av. Gentil Bittencourt\, 1144.
DTSTART:20240307T210000Z
DTEND:20240308T010000Z
DTSTAMP:20240306T224712Z
ORGANIZER;CN=Portal de Eventos - Centro Universitário Fibra:MAILTO:eventos
 @fibrapara.edu.br
GEO:-1.455183;-48.482397
X-APPLE-STRUCTURED-LOCATION;VALUE=URI;X-ADDRESS=Av. Gentil Bittencourt\, 11
 44.;X-APPLE-RADIUS=72;X-TITLE=Centro Universitário Fibra:-1.455183;-48.48
 2397
END:VEVENT
END:VCALENDAR