BEGIN:VCALENDAR
VERSION:2.0
PRODID:Events Booking
BEGIN:VEVENT
UID:69ea6a295300b
SUMMARY:Submissão de Trabalhos - Dia do Enfermeiro de Fibra
DESCRIPTION:SUBMISSÃO DE TRABALHOS CIENTÍFICOS PARA O 11 º PROGRAMAÇÃO
  “DIA DO ENFERMEIRO DE FIBRA”
 &nbsp\;
 NORMAS PARA O ENVIO DE RESUM
 OS DE TRABALHO:
 As submissões dos resumos serão realizadas exclusivame
 nte&nbsp\;por meio do link disponível no Portal de Eventos do Centro Univ
 ersitário Fibra: &nbsp\;https://fibrapara.net/eventos\;
 Há cinco categ
 orias de classificação para os resumos\, devendo eleger uma destas: Ensi
 no\, Extensão\, Pesquisa\, Relato de experiência e Revisão bibliográfi
 ca
 Todos os resumos serão apresentados em formato pôster eletrônico\;
 
 Os resumos devem ser submetidos de acordo com as regras a seguir:
 1) 
 O texto deverá ser escrito de acordo com as norma culta gramatical da Lí
 ngua Portuguesa\; fonte: Arial\, tamanho: 12\, espaçamento: 1\,5.
 2) A 
 estrutura dos resumos das categorias ensino\, pesquisa e extensão deve co
 ntemplar os seguintes itens: introdução\, objetivos\, métodos\, resulta
 dos e conclusão\, com o mínimo de 230 e máximo de 580 palavras\, e apre
 sentar três (3) descritores/palavras chaves.
 3) A estrutura dos resumos
  das categorias relato de experiência e revisão bibliográfica deve ser 
 no formato de resumo expandido\, informativo\, contendo introdução\, obj
 etivos\, relato da experiência descrevendo o contexto\, sujeitos envolvid
 os e principais etapas\, resultados\, conclusão. Ter até cinco (5) refer
 ências bibliográficas com mínimo de 1030 e máximo de 1330 palavras e a
 presentar três (3) descritores/palavras chaves.
 4) A totalidade de pala
 vras do resumo incluirá o título\, os nomes dos autores\, o e-mail do au
 tor correspondente e os descritores\;
 5) Título: em letras maiúsculas.
 
 6) Informações sobre os autores: nome completo\, formação\, titula
 ção e instituição de vínculo acadêmico e/ou profissional atual.
 7)
  O e-mail do autor correspondente (ou principal) deve ser inserido. É fac
 ultado ao autor que submeter o trabalho ser o autor principal.
 8) Cada t
 rabalho deverá ter no máximo 8 (oito) autores sendo obrigatória a parti
 cipação de um orientador de nível superior.
 Outras orientações:
 1
 ) Cada participante\, independentemente da categoria\, terá direito à su
 bmissão de no máximo 2 (dois) trabalhos como autor principal. Entretanto
 \, sua participação como co-autor é ilimitada.
 2) O conteúdo dos tra
 balhos submetidos serão de responsabilidade do(s) autor(es).
 3) Trabalh
 os que não atendam às regras de submissão não serão aceitos no evento
 .
 4) Não haverá possibilidade de reedição do trabalho após o envio.
 
 5) Todos os certificados serão disponibilizados em até 30 dias após 
 o término do evento
 Avaliação dos trabalhos:
 Será realizada por um
 a comissão cientifica com expertise nas áreas temáticas\, que levará e
 m consideração:
 a) Relevância cientifica
 b) Cumprimento das regras 
 orientadas quanto a: estruturação\, formatação e vínculo com a área 
 temática escolhida\;
 c) O conteúdo deve apresentar coerência teórica
  e metodológica\, encadeamento lógico entre as partes do resumo\, tornan
 do a totalidade do texto consistente e compreensível para o leitor\;
 d)
  Serão classificados em duas categorias: aptos e inaptos. Não serão div
 ulgadas informações avaliativas\, tanto em caso de aprovação como de r
 eprovação. Será ssegurado o anonimato dos autores e avaliadores dos tra
 balhos\;
 e) O(s) nome(s) do(s) autor(es) deve(m) ser preenchido(s) por c
 ompleto\, de forma correta (tanto a grafia quanto a ordem de autoria)\, po
 is será(ão) utilizado(s) para a confecção do(s) certificado(s)\;
 f) 
 &nbsp\;É de responsabilidade dos autores dos resumos a revisão textual c
 ompleta.
 Não serão aceitos quaisquer pedidos de correção após o té
 rmino do período de submissão.
 FORMAS DE APRESENTAÇÃO DOS TRABALHOS 
 APROVADOS:
 Serão apresentados somente na forma de pôster. Em etapa pos
 terior\, logo após os resultados de aprovação\, os autores receberão o
 rientações quanto ao envio do formato final de apresentação/exposiçã
 o. Os trabalhos aprovados serão considerados previamente avaliados\, port
 anto\, não haverá agendamento de visitação\, sendo esta uma exposiçã
 o permanente em totens\, disponível durante todo o período do evento.
LOCATION:Av. Gentil Bittencourt\, 1144.
DTSTART:20240413T030000Z
DTEND:20240511T025500Z
DTSTAMP:20240413T151016Z
ORGANIZER;CN=Portal de Eventos - Centro Universitário Fibra:MAILTO:eventos
 @fibrapara.edu.br
GEO:-1.455183;-48.482397
X-APPLE-STRUCTURED-LOCATION;VALUE=URI;X-ADDRESS=Av. Gentil Bittencourt\, 11
 44.;X-APPLE-RADIUS=72;X-TITLE=Centro Universitário Fibra:-1.455183;-48.48
 2397
END:VEVENT
END:VCALENDAR