BEGIN:VCALENDAR
VERSION:2.0
PRODID:Events Booking
BEGIN:VEVENT
UID:69e9fdae72c8d
SUMMARY:Dia da Amazônia
DESCRIPTION:Bate-papo com o Economista\, Publicitário e &nbsp\;Advogado Ah
 arom Alcolumbre\, Diretor de Promoção do Desenvolvimento Sustentável da
  SUDAM\; e com o escritor Edyr augusto Proença\, autor de \"Os Éguas\"\,
  \"Belhell\"\, \"Pssica\" (que\, recentemente\, virou série da Netflix)\,
  dentre outros romances.
 
LOCATION:Av. Gentil Bittencourt\, 1144.
DTSTART:20250908T220000Z
DTEND:20250909T010000Z
DTSTAMP:20250904T034126Z
ORGANIZER;CN=Portal de Eventos - Centro Universitário Fibra:MAILTO:eventos
 @fibrapara.edu.br
GEO:-1.455183;-48.482397
X-APPLE-STRUCTURED-LOCATION;VALUE=URI;X-ADDRESS=Av. Gentil Bittencourt\, 11
 44.;X-APPLE-RADIUS=72;X-TITLE=Centro Universitário Fibra:-1.455183;-48.48
 2397
END:VEVENT
END:VCALENDAR