BEGIN:VCALENDAR
VERSION:2.0
PRODID:Events Booking
BEGIN:VEVENT
UID:69e9da5dbe2e2
SUMMARY:Dia do Advogado
DESCRIPTION:11 de agosto: nossa homenagem ao dia do Advogado e da AdvogadaN
 este 11 de agosto\, data magna para a cultura jurídica brasileira\, a Coo
 rdenação do Curso de Direito do Centro Universitário Fibra tem a honra 
 de saudar todos os advogados e advogadas que dedicam suas vidas à nobre m
 issão de defender a Justiça.A data\, que celebra a criação dos primeir
 os cursos de Direito no Brasil em 1827\, transcende a mera comemoração d
 e uma profissão. Ela nos convida a refletir sobre o pilar que a advocacia
  representa para a sustentação do Estado Democrático de Direito e da Ju
 stiça. Ser advogado é ser a voz do cidadão\, o guardião das liberdades
  individuais e coletivas\, e o artesão incansável na construção de uma
  sociedade mais justa e equânime.A advocacia não é apenas uma carreira\
 , é um múnus público\, uma vocação que exige coragem\, conhecimento t
 écnico aprofundado\, retidão de caráter e\, acima de tudo\, uma inabal
 ável sensibilidade humana. É a arte de transformar o conflito em pacific
 ação\, a incerteza em direito e o silêncio em justiça.Aos nossos dedic
 ados acadêmicos do curso de Direito\, futuros juristas que hoje se empenh
 am nos bancos de nossa Instituição\, que esta data sirva de inspiração
 . Lembrem-se que cada artigo estudado\, cada debate em sala de aula e cada
  peça processual elaborada são etapas na formação do profissional que\
 , em breve\, terá o poder e a responsabilidade de zelar pelos direitos ma
 is caros da nossa gente\, especialmente aqui\, em nossa Amazônia.Ao nosso
  distinto corpo docente\, nosso profundo reconhecimento pelo esmero em lap
 idar as mentes que amanhã estarão na linha de frente da advocacia\, tran
 smitindo não apenas a letra da lei\, mas o espírito da Justiça.Aos noss
 os egressos\, que hoje honram o nome da FIBRA nos mais diversos campos da 
 advocacia\, nossa homenagem de admiração. Vocês são a prova viva do no
 sso compromisso com uma formação de excelência\, ética e humanizada.Qu
 e a chama da Justiça\, que hoje celebramos\, continue a iluminar o caminh
 o de cada profissional do Direito.Parabéns a todos os advogados e advogad
 as!Com os mais elevados votos de estima e reconhecimento\,A Coordenação 
 do Curso de Direito
 
LOCATION:Av. Gentil Bittencourt\, 1144.
DTSTART:20250811T130000Z
DTEND:20250812T000000Z
DTSTAMP:20250806T233335Z
ORGANIZER;CN=Portal de Eventos - Centro Universitário Fibra:MAILTO:eventos
 @fibrapara.edu.br
GEO:-1.455183;-48.482397
X-APPLE-STRUCTURED-LOCATION;VALUE=URI;X-ADDRESS=Av. Gentil Bittencourt\, 11
 44.;X-APPLE-RADIUS=72;X-TITLE=Centro Universitário Fibra:-1.455183;-48.48
 2397
END:VEVENT
END:VCALENDAR