BEGIN:VCALENDAR
VERSION:2.0
PRODID:Events Booking
BEGIN:VEVENT
UID:69e9eb14983e9
SUMMARY:Dia do Administrador
DESCRIPTION:? Comemoração do Dia do Administrador – 60 anos da Profiss
 ão ?
 No próximo 09 de setembro\, o Centro Universitário Fibra convida
  todos os administradores\, professores\, acadêmicos e a comunidade em ge
 ral para participar de uma solenidade especial em homenagem ao Dia do Admi
 nistrador.
 Neste ano\, celebramos os 60 anos da profissão\, marco hist
 órico para uma das áreas mais importantes no desenvolvimento das organiz
 ações e da sociedade. Será um momento de valorização\, reflexão e co
 nfraternização em torno da contribuição essencial do Administrador par
 a o crescimento e a inovação.
 ? Venha prestigiar e compartilhar conosc
 o essa data tão&nbsp\;significativa!
 
DTSTART:20250909T220000Z
DTEND:20250910T000000Z
DTSTAMP:20250905T030237Z
ORGANIZER;CN=Portal de Eventos - Centro Universitário Fibra:MAILTO:eventos
 @fibrapara.edu.br
END:VEVENT
END:VCALENDAR