BEGIN:VCALENDAR
VERSION:2.0
PRODID:Events Booking
BEGIN:VEVENT
UID:69e9fe1169346
SUMMARY:Dia do Administrador - COP 30: Desafios e Oportunidades para Consul
 torias Ambientais na Implementação das Políticas Climáticas
DESCRIPTION:Palestra \"COP 30: Desafios e Oportunidades para Consultorias A
 mbientais na Implementação das Políticas Climáticas”
 Palestrante: 
 Milena Peper
 - CEO da Consultoria Green Forest
 - Graduada em Engenhari
 a Florestal – UFRA
 - Mestra em Ciências Florestais – UFRA
 - Inici
 ou sua carreira como Analista Ambiental no IBAMA Marabá/PA
 - Atuou como
  professora da UEPA\, na área de Tecnologia da Madeira
 - Fundadora da e
 mpresa Green Forest Consultoria Ambiental\, onde lidera projetos de licenc
 iamento ambiental e manejo sustentável de recursos florestais.
 - Fundad
 ora da Startup Amazon Connection Carbon\, que desenvolve projetos de créd
 ito de carbono qualificados na Amazônia.
 - Foi conselheira da Câmara e
 specializada em Engenharia Florestal do CREA/PA.
 - Coordenadora do progr
 ama mulher CREA/PA\, e atualmente é Diretora administrativa da Caixa de A
 ssistência do CREA/PA.
 &nbsp\;
 
LOCATION:Av. Gentil Bittencourt\, 1144.
DTSTART:20240909T220000Z
DTEND:20240910T010000Z
DTSTAMP:20240828T184157Z
ORGANIZER;CN=Portal de Eventos - Centro Universitário Fibra:MAILTO:eventos
 @fibrapara.edu.br
GEO:-1.455183;-48.482397
X-APPLE-STRUCTURED-LOCATION;VALUE=URI;X-ADDRESS=Av. Gentil Bittencourt\, 11
 44.;X-APPLE-RADIUS=72;X-TITLE=Centro Universitário Fibra:-1.455183;-48.48
 2397
END:VEVENT
END:VCALENDAR