BEGIN:VCALENDAR
VERSION:2.0
PRODID:Events Booking
BEGIN:VEVENT
UID:69e9f9684156e
SUMMARY:Os desafios do século XXI enfrentados pela Suprema Corte de Ango
 la
DESCRIPTION:Os desafios do século XXI enfrentados pela Suprema Corte&nbsp\
 ;de&nbsp\;Angola -&nbsp\;palestra do Excelentísssimo Ministro da Suprema 
 Corte de&nbsp\;Angola\, Dr. Artur Domingos Gunza
 Artur Domingos Gunza é
  licenciado em Direito pela Universidade Agostinho Neto e mestre em Direit
 o e Poder Judiciário pela Escola Nacional de Formação e Aperfeiçoament
 o de Magistrados (ENFAM). É juiz desembargador do Tribunal da Relação d
 e Benguela\, presidente dos Tribunais Provinciais da Huíla e Benguela\, f
 ormador do Instituto Nacional de Estudos Judiciários (INEJ) e conferencis
 ta internacional. Também é membro do Conselho Superior da Magistratura J
 udicial\; da Comissão Permanente do CSM Judicial e da Comissão da Implem
 entação da Reforma Judiciária\, CIRJ. Atualmente é juiz Conselheiro do
  Tribunal&nbsp\;Supremo.
 
LOCATION:Av. Gentil Bittencourt\, 1144.
DTSTART:20250903T130000Z
DTEND:20250903T143000Z
DTSTAMP:20250901T164747Z
ORGANIZER;CN=Portal de Eventos - Centro Universitário Fibra:MAILTO:eventos
 @fibrapara.edu.br
GEO:-1.455183;-48.482397
X-APPLE-STRUCTURED-LOCATION;VALUE=URI;X-ADDRESS=Av. Gentil Bittencourt\, 11
 44.;X-APPLE-RADIUS=72;X-TITLE=Centro Universitário Fibra:-1.455183;-48.48
 2397
END:VEVENT
END:VCALENDAR