BEGIN:VCALENDAR
VERSION:2.0
PRODID:Events Booking
BEGIN:VEVENT
UID:69e9fa679ed70
SUMMARY:Desafios da advocacia na COP30
DESCRIPTION:Como marco inicial dos eventos do segundo semestre de 2024\, e 
 em celebração do dia do Advogado e do dia do Estudante\, teremos a pales
 tra \"Desafios da advocacia&nbsp\;na&nbsp\;COP30\".
 Às 11:30\, com o Dr
 .&nbsp\;Victor Russo\, Professor\, Presidente da Comissão de Educação J
 urídica da OAB/PA e Vice-Diretor Geral da Escola Superior de Advocacia&nb
 sp\;da&nbsp\;OAB/PA.
 Às 18:30\, com o Dr.&nbsp\;Roberto Lauria\,&nbsp\;
 Advogado criminalista e Professor universitário.
 
LOCATION:Av. Gentil Bittencourt\, 1144.
DTSTART:20240812T140000Z
DTEND:20240812T233000Z
DTSTAMP:20240802T175314Z
ORGANIZER;CN=Portal de Eventos - Centro Universitário Fibra:MAILTO:eventos
 @fibrapara.edu.br
GEO:-1.455183;-48.482397
X-APPLE-STRUCTURED-LOCATION;VALUE=URI;X-ADDRESS=Av. Gentil Bittencourt\, 11
 44.;X-APPLE-RADIUS=72;X-TITLE=Centro Universitário Fibra:-1.455183;-48.48
 2397
END:VEVENT
END:VCALENDAR