BEGIN:VCALENDAR
VERSION:2.0
PRODID:Events Booking
BEGIN:VEVENT
UID:69e9e666e2674
SUMMARY:II Encontro da ADJC Pará: \"A defesa dos direitos sociais no novo 
 contexto político\"
DESCRIPTION:A ADJC - Associação dos Advogados e Advogadas pela Democracia
 \, Justiça e Cidadania\, núcleo Pará\, tem a honra de convidar profissi
 onais da área do direito e afins\, estudantes\, servidores\, autoridades\
 , entidades sindicais e movimentos sociais\, para o II encontro estadual d
 a ADJC.
 Na oportunidade\, debatermos “O DIREITO DO TRABALHO NO NOVO CO
 NTEXTO POLÍTICO E A IGUALDADE DE GÊNERO COMO POLÍTICA JUDICIÁRIA”\, 
 tendo como palestrantes a Ministra do TST\, Exma. Sra. DELAÍDE ARANTES e 
 a Presidente da AMATRA8\, Juíza do Trabalho Dra. ROBERTA SANTOS.
 Na oca
 sião haverá o lançamento do Livro “RECONSTRUIR A DEMOCRACIA”\, de a
 utoria do coordenador nacional da ADJC\, o Advogado Dr. Aldo Arantes.
 &n
 bsp\;
 Evento aberto ao público externo.
LOCATION:Av. Gentil Bittencourt\, 1144.
DTSTART:20221201T170000Z
DTEND:20221201T210000Z
DTSTAMP:20221121T201954Z
ORGANIZER;CN=Portal de Eventos - Centro Universitário Fibra:MAILTO:eventos
 @fibrapara.edu.br
GEO:-1.455183;-48.482397
X-APPLE-STRUCTURED-LOCATION;VALUE=URI;X-ADDRESS=Av. Gentil Bittencourt\, 11
 44.;X-APPLE-RADIUS=72;X-TITLE=Centro Universitário Fibra:-1.455183;-48.48
 2397
END:VEVENT
END:VCALENDAR