BEGIN:VCALENDAR
VERSION:2.0
PRODID:Events Booking
BEGIN:VEVENT
UID:69e9fefc86cd1
SUMMARY:Curso Prático de Aplicação de Injetáveis: Teoria e Prática Ava
 nçada
DESCRIPTION:Transforme sua insegurança em precisão e ofereça um atendime
 nto de excelência.
 Você se sente preparado para realizar aplicações 
 com segurança absoluta? O erro na administração de medicamentos injetá
 veis pode causar danos graves ao paciente e comprometer sua carreira. Este
  curso foi desenhado para profissionais e estudantes que buscam domínio t
 écnico total\, desde a biossegurança até a prática clínica.
 Horári
 o: 08h às 12h (Teoria) | 13h30 às 17h30 (Prática).
 O que você vai ap
 render?
 O curso aborda o conteúdo mais atualizado do mercado\, seguindo
  rigorosamente as normas da ANVISA e dos conselhos de classe.
 Conteúdo 
 Programático:
 
 Biossegurança e Legislação: Higienização\, EPIs e
  descarte de perfurocortantes.
 Farmacologia Aplicada: Tipos de ampolas\,
  frasco-ampola e diluição correta.
 Técnicas de Aplicação:
 
 Intr
 adérmica (ID): Testes de sensibilidade e vacinas.
 Subcutânea (SC): Man
 ejo de insulinas e anticoagulantes.
 Intramuscular (IM): Técnicas em del
 toide\, glúteo e vasto lateral.
 Endovenosa (EV): Punção venosa\, cole
 ta de sangue e soroterapia.
 
 
 Manejo de Complicações: Como agir em
  casos de hematomas\, flebites ou reações adversas.
 
 Para quem é es
 te curso?
 Este curso é ideal para:
 
 Estudantes e Profissionais de E
 nfermagem.
 Estudantes de Medicina
 Farmacêuticos e Técnicos em Farmá
 cia.
 Biomédicos e profissionais da área da saúde que desejam atualiza
 ção.
 
 
 &nbsp\;
LOCATION:Av. Gentil Bittencourt\, 1144.
DTSTART:20260228T110000Z
DTEND:20260228T203000Z
DTSTAMP:20260122T152945Z
ORGANIZER;CN=Portal de Eventos - Centro Universitário Fibra:MAILTO:eventos
 @fibrapara.edu.br
GEO:-1.455183;-48.482397
X-APPLE-STRUCTURED-LOCATION;VALUE=URI;X-ADDRESS=Av. Gentil Bittencourt\, 11
 44.;X-APPLE-RADIUS=72;X-TITLE=Centro Universitário Fibra:-1.455183;-48.48
 2397
END:VEVENT
END:VCALENDAR