BEGIN:VCALENDAR
VERSION:2.0
PRODID:Events Booking
BEGIN:VEVENT
UID:69e9fe1d7c0fa
SUMMARY:Curso de Práticas em Metodologias Ativas
DESCRIPTION:O curso é destinado a professores\, monitores\, tutores\, gest
 ores educacionais e a todo profissional que trabalha ou pretende trabalhar
  com educação formal\, não formal\, informal e corporativa\, que esteja
  interessado em analisar\, conhecer e oportunizar melhorias contínuas em 
 seu processo de ensino e aprendizagem\, concebendo como protagonista da a
 ção o aluno\, que assume a função de responsável por trilhar o seu pr
 óprio caminho educacional\, e relacionando a figura do educador como agen
 te que oportuniza esta caminhada pedagógica.
 
LOCATION:Av. Gentil Bittencourt\, 1144.
DTSTART:20250426T170000Z
DTEND:20250503T210000Z
DTSTAMP:20250328T184321Z
ORGANIZER;CN=Portal de Eventos - Centro Universitário Fibra:MAILTO:eventos
 @fibrapara.edu.br
GEO:-1.455183;-48.482397
X-APPLE-STRUCTURED-LOCATION;VALUE=URI;X-ADDRESS=Av. Gentil Bittencourt\, 11
 44.;X-APPLE-RADIUS=72;X-TITLE=Centro Universitário Fibra:-1.455183;-48.48
 2397
END:VEVENT
END:VCALENDAR