BEGIN:VCALENDAR
VERSION:2.0
PRODID:Events Booking
BEGIN:VEVENT
UID:69e9fe3c97a73
SUMMARY:Curso Teórico e Prático de Injetáveis
DESCRIPTION:Objetivos do curso:
 Capacitar os alunos da graduação e prof
 issionais de saúde para realização de aplicação de medicamentos injet
 áveis e de procedimentos de biossegurança.
 Público alvo: &nbsp\;aluno
 s dos cursos de enfermagem\, farmácia\, biomedicina\, fisioterapia&nbsp\;
 e profissionais de saúde .
 Conteúdo do Curso:
 
 Apresentação pess
 oal e cuidados com o paciente\;
 Legislação referente à aplicação de
  injetáveis\;
 Preparo de medicamentos\;
 Vias e locais de aplicação\
 ;
 Técnicas de aplicação
 
 &nbsp\;
 Manhã: de 08:00h às 12:00hTa
 rde: de 14:00h às 16:00h&nbsp\;
 &nbsp\;
 
DTSTART:20241123T110000Z
DTEND:20241123T190000Z
DTSTAMP:20241021T181724Z
ORGANIZER;CN=Portal de Eventos - Centro Universitário Fibra:MAILTO:eventos
 @fibrapara.edu.br
END:VEVENT
END:VCALENDAR