BEGIN:VCALENDAR
VERSION:2.0
PRODID:Events Booking
BEGIN:VEVENT
UID:69e8000c19cde
SUMMARY:Curso de Cálculo de Doses e Diluições: Do Básico à Alta Comple
 xidade
DESCRIPTION:Elimine a insegurança com as contas e garanta a segurança abs
 oluta na administração de medicamentos.
 Muitos erros na assistência d
 e enfermagem ocorrem por falhas no cálculo de gotejamento ou diluição. 
 Você se sente seguro para realizar uma rediluição pediátrica ou progra
 mar uma bomba de infusão? Este curso foi criado para transformar a matem
 ática em uma ferramenta de precisão e confiança no seu dia a dia clíni
 co.
 
 Horário: 08h às 12h (Teoria e Raciocínio) | 13h30 às 17h30 (P
 rática em Laboratório).
 
 Por que fazer este curso?
 Dominar o cálc
 ulo de doses não é apenas sobre números\, é sobre a vida do paciente. 
 Neste curso\, você terá um aprendizado mão na massa\, utilizando materi
 ais reais de hospital em um ambiente de ensino simulado.
 O que você vai
  dominar:
 
 Matemática Sem Trauma: Regra de três aplicada e conversõ
 es rápidas de unidades (g\, mg\, mcg\, UI).
 Controle de Infusão: Cálc
 ulo de gotas e microgotas para soroterapia.
 Diluição e Rediluição: C
 omo preparar doses exatas de antibióticos e eletrólitos.
 Casos Especí
 ficos: Cálculos de Insulina e Penicilina Cristalina (sem erro no volume d
 o pó).
 Pediatria e UTI: Manejo de doses mínimas e drogas vasoativas.

  
 Público-Alvo
 
 Acadêmicos de Enfermagem (especialmente do 3º ao 
 5º semestre).
 Técnicos de Enfermagem em busca de atualização.
 Prof
 issionais de saúde que desejam reciclar seus conhecimentos em farmacologi
 a aplicada.
 
 Recomendamos levar jaleco para a aula prática\, caneta e
  calculadora (ou celular com calculadora.
 
LOCATION:Av. Gentil Bittencourt\, 1144.
DTSTART:20260411T110000Z
DTEND:20260411T203000Z
DTSTAMP:20260122T144545Z
ORGANIZER;CN=Portal de Eventos - Centro Universitário Fibra:MAILTO:eventos
 @fibrapara.edu.br
GEO:-1.455183;-48.482397
X-APPLE-STRUCTURED-LOCATION;VALUE=URI;X-ADDRESS=Av. Gentil Bittencourt\, 11
 44.;X-APPLE-RADIUS=72;X-TITLE=Centro Universitário Fibra:-1.455183;-48.48
 2397
END:VEVENT
END:VCALENDAR