BEGIN:VCALENDAR
VERSION:2.0
PRODID:Events Booking
BEGIN:VEVENT
UID:69e9fdde5fc2f
SUMMARY:CURSO LIVRE DE CURATIVOS/MANEJO DE QUEIMADURAS
DESCRIPTION:O curso objetiva capacitar profissionais de saúde e estudantes
  da área no manejo de feridas e curativos em pacientes queimados.
 O cur
 so iniciará com pelo menos 20 alunos.
 
LOCATION:Av. Gentil Bittencourt\, 1144.
DTSTART:20240217T110000Z
DTEND:20240217T150000Z
DTSTAMP:20240123T215034Z
ORGANIZER;CN=Portal de Eventos - Centro Universitário Fibra:MAILTO:eventos
 @fibrapara.edu.br
GEO:-1.455183;-48.482397
X-APPLE-STRUCTURED-LOCATION;VALUE=URI;X-ADDRESS=Av. Gentil Bittencourt\, 11
 44.;X-APPLE-RADIUS=72;X-TITLE=Centro Universitário Fibra:-1.455183;-48.48
 2397
END:VEVENT
END:VCALENDAR