BEGIN:VCALENDAR
VERSION:2.0
PRODID:Events Booking
BEGIN:VEVENT
UID:69e8d7de32923
SUMMARY:Ciência com Tacacá - Exames laboratoriais: atualização 2024
DESCRIPTION:Participe deste novo evento científico da Fibra que terá as c
 ores\, sabores e a magia do Estado do Pará.
 &nbsp\;
 Programação do 
 minicurso:
 
 Novos exames em Medicina Laboratorial
 Exames que perdera
 m o valor
 Causas das variações nos exames
 Exames pré-operatórios 
 – o que mudou?
 Intervalo de referência para pacientes transgêneros

  Utilização de comentários interpretativos nos laudos
 Projeto Choosin
 g Wisely
 Atualização em Marcadores Tumorais
 Novo Consenso Brasileiro
  de FAN em Células HEp-2
 Diagnóstico Laboratorial das Doenças Autoimu
 nes
 Diagnóstico Laboratorial da covid-19 – o que realmente interessa?
 
 Atualização no Diagnóstico das Infecções Sexualmente Transmissíve
 is
 O Laboratório em Medicina de Precisão
 Tendências para os Laborat
 órios de Patologia Clínica 2024
 
 Obs.: Será distribuído um tacacá
  aos inscritos
 &nbsp\;
 
LOCATION:Av. Gentil Bittencourt\, 1144.
DTSTART:20240321T210000Z
DTEND:20240321T230000Z
DTSTAMP:20240129T223428Z
ORGANIZER;CN=Portal de Eventos - Centro Universitário Fibra:MAILTO:eventos
 @fibrapara.edu.br
GEO:-1.455183;-48.482397
X-APPLE-STRUCTURED-LOCATION;VALUE=URI;X-ADDRESS=Av. Gentil Bittencourt\, 11
 44.;X-APPLE-RADIUS=72;X-TITLE=Centro Universitário Fibra:-1.455183;-48.48
 2397
END:VEVENT
END:VCALENDAR