BEGIN:VCALENDAR
VERSION:2.0
PRODID:Events Booking
BEGIN:VEVENT
UID:69e9eaf69258c
SUMMARY:CONGRESSO NACIONAL DE ESTUDANTES E PROFISSIONAIS DE ADMINISTRAÇÃO
DESCRIPTION:A 23ª edição do&nbsp\;CONEPA - (CONGRESSO NACIONAL DE ESTUDA
 NTES E PROFISSIONAIS DE ADMINISTRAÇÃO)\, Maior Congresso de Administraç
 ão do Brasil será realizado nos dias 05\, 06 e 07 de novembro de 2026 no
  auditório principal do CENTRO UNIVERSITÁRIO FIBRA\, localizado na Av. G
 entil Bittencourt\, nº 1.144\, Nazaré\, em Belém/PA\, CEP: 66040-174. A
  diferenciada programação do evento será composta por palestras\, apres
 entação de artigos científicos e exposições. Serão três dias intens
 os na programação oficial\, com a finalidade de debater e aprofundar sob
 re o tema:&nbsp\;“LIDERANÇA E INOVAÇÃO NAS ORGANIZAÇÕES”.
 O CON
 EPA é um evento de natureza profissional\, acadêmica\, científica e soc
 ial com a finalidade de promover abordagens temáticas na área de gestão
  e administração. O evento contribui para a formação\, aprendizado e d
 esenvolvimento de todos os participantes\, com o objetivo de fomentar e po
 tencializar o público com oportunidades de conhecer novas tendências ino
 vadoras e tecnológicas de mercado\, agregar valor em diversos conteúdos\
 , aprimorar e qualificar o currículo profissional\, oportunidades de parc
 erias e conexões\, aprofundar sobre assuntos gerais da administração co
 m profissionais qualificados e com destaque no cenário nacional.Com o in
 ício da turnê do CONEPA em 2024\, já foram realizadas as edições do c
 ongresso nas cidades de Salvador/BA\, Belém/PA\, Recife/PE\, João Pessoa
 /PB\, Fortaleza/CE\, São Luís/MA e Vitória da Conquista/BA reafirmando 
 o compromisso e contribuição com a administração no Brasil.
 &nbsp\;
 
 Inscrições pelo site:&nbsp\;https://doity.com.br/conepa2026-belem
 &n
 bsp\;
 CENTRAL DE ATENDIMENTO
 E-mail:&nbsp\;kaloneproducoes@gmail.comWh
 atsApp:&nbsp\;https://api.whatsapp.com/send?1=pt_BR&amp\;phone=55719871383
 46Instagram:&nbsp\;https://www.instagram.com/conepabrasil/
LOCATION:Av. Gentil Bittencourt\, 1144.
DTSTART:20261105T200000Z
DTEND:20261107T200000Z
DTSTAMP:20260303T215922Z
ORGANIZER;CN=Portal de Eventos - Centro Universitário Fibra:MAILTO:eventos
 @fibrapara.edu.br
GEO:-1.455183;-48.482397
X-APPLE-STRUCTURED-LOCATION;VALUE=URI;X-ADDRESS=Av. Gentil Bittencourt\, 11
 44.;X-APPLE-RADIUS=72;X-TITLE=Centro Universitário Fibra:-1.455183;-48.48
 2397
END:VEVENT
END:VCALENDAR