BEGIN:VCALENDAR
VERSION:2.0
PRODID:Events Booking
BEGIN:VEVENT
UID:69e9f9109f9fb
SUMMARY:Conectando Saberes - Simulação Jurídica
DESCRIPTION:A Liga Acadêmica dos Estudantes de Direito do Centro Universit
 ário Fibra\, promeve o Projeto Conectando Saberes. Este projeto tem como 
 objetivo principal a aplicação prática dos conhecimentos adquiridos em 
 sala de aula\, incentivando a reflexão crítica e o aprimoramento das hab
 ilidades de expressão oral.
 Em sua primeira edição\, será debatido o
 &nbsp\;Projeto de Lei nº 5.064 de 2023\, que visa conceder anistia aos ac
 usados e condenados pelos crimes definidos nos arts. 359-L e 359-M do Decr
 eto-Lei nº 2.848\, de 7 de dezembro de 1940 – Código Penal\, em razão
  das manifestações ocorridas em Brasília\, na Praça dos Três Poderes\
 , no dia 8 de janeiro de 2023.
LOCATION:Av. Gentil Bittencourt\, 1144.
DTSTART:20240506T190000Z
DTEND:20240506T210000Z
DTSTAMP:20240425T214200Z
ORGANIZER;CN=Portal de Eventos - Centro Universitário Fibra:MAILTO:eventos
 @fibrapara.edu.br
GEO:-1.455183;-48.482397
X-APPLE-STRUCTURED-LOCATION;VALUE=URI;X-ADDRESS=Av. Gentil Bittencourt\, 11
 44.;X-APPLE-RADIUS=72;X-TITLE=Centro Universitário Fibra:-1.455183;-48.48
 2397
END:VEVENT
END:VCALENDAR