BEGIN:VCALENDAR
VERSION:2.0
PRODID:Events Booking
BEGIN:VEVENT
UID:69e9fd905ae9a
SUMMARY:Curso de Extensão \"Comunicação Profissional: Oratória e Escrit
 a\"
DESCRIPTION:O Curso de Extensão \"Comunicação Profissional: Oratória e 
 Escrita\" possibilitará a formação de indivíduos que buscam destacar-s
 e em suas carreiras. Em um mundo cada vez mais competitivo\, a habilidade 
 de se comunicar de maneira eficaz\, tanto por meio da escrita quanto da or
 atória\, é essencial.
 Este curso oferecerá as ferramentas necessária
 s para desenvolver uma comunicação clara\, objetiva e persuasiva\, capac
 itando os participantes a apresentarem ideias de forma convincente e a tra
 nsmitirem mensagens com precisão.
 A capacidade de se destacar na comuni
 cação é um diferencial valioso em qualquer profissão\, e este curso pr
 oporcionará uma base sólida para o seu sucesso em um ambiente de trabalh
 o cada vez mais exigente e dinâmico.
 Cada turma só iniciará quando at
 ingir o número mínimo de 15 alunos inscritos.
 &nbsp\;
 Turma 1
 Dias
 &nbsp\;30 de setembro (das 8H às 12H) e 14 de outubro (das 8H às 12H e d
 as 13H às 17H).
 &nbsp\;
LOCATION:Av. Gentil Bittencourt\, 1144.
DTSTART:20230930T030000Z
DTEND:20231015T030000Z
DTSTAMP:20230915T232932Z
ORGANIZER;CN=Portal de Eventos - Centro Universitário Fibra:MAILTO:eventos
 @fibrapara.edu.br
GEO:-1.455183;-48.482397
X-APPLE-STRUCTURED-LOCATION;VALUE=URI;X-ADDRESS=Av. Gentil Bittencourt\, 11
 44.;X-APPLE-RADIUS=72;X-TITLE=Centro Universitário Fibra:-1.455183;-48.48
 2397
END:VEVENT
END:VCALENDAR