BEGIN:VCALENDAR
VERSION:2.0
PRODID:Events Booking
BEGIN:VEVENT
UID:69ea135622cd0
SUMMARY:Comunicação Profissional: Oratória e Escrita - Manhã
DESCRIPTION:O Curso de Extensão \"Comunicação Profissional: Oratória e 
 Escrita\" possibilitará a formação de indivíduos que buscam destacar-s
 e em suas carreiras. Em um mundo cada vez mais competitivo\, a habilidade 
 de se comunicar de maneira eficaz\, tanto por meio da escrita quanto da or
 atória\, é essencial.
 Este curso oferecerá as ferramentas necessária
 s para desenvolver uma comunicação clara\, objetiva e persuasiva\, capac
 itando os participantes a apresentarem ideias de forma convincente e a tra
 nsmitirem mensagens com precisão.
 A capacidade de se destacar na comuni
 cação é um diferencial valioso em qualquer profissão\, e este curso pr
 oporcionará uma base sólida para o seu sucesso em um ambiente de trabalh
 o cada vez mais exigente e dinâmico.
 Público: Apesar de o curso ser vo
 ltado para a comunicação institucional\, tendo como público profissiona
 is\, de todos os níveis\, de empresas particulares e órgãos&nbsp\;públ
 icos\, também poderão se inscrever estudantes (universitários e pós-gr
 aduandos) e demais interessados nos temas que serão tratados.
 &nbsp\;
DTSTART:20230930T110000Z
DTEND:20231014T200000Z
DTSTAMP:20230915T232932Z
ORGANIZER;CN=Portal de Eventos - Centro Universitário Fibra:MAILTO:eventos
 @fibrapara.edu.br
END:VEVENT
END:VCALENDAR