BEGIN:VCALENDAR
VERSION:2.0
PRODID:Events Booking
BEGIN:VEVENT
UID:69e9fdad92089
SUMMARY:Comunicação não violenta no cotidiano institucional
DESCRIPTION:O Centro Universitário Fibra tem o prazer de convidar você pa
 ra uma palestra exclusiva sobre \"Comunicação Não Violenta no Cotidiano
  Institucional\"\, um tema essencial para promover ambientes mais harmonio
 sos\, inclusivos e eficientes nas organizações.
 Neste encontro\, explo
 raremos como a comunicação visual pode ser utilizada de forma estratégi
 ca para evitar conflitos\, melhorar a clareza das mensagens e fortalecer a
  interação entre colaboradores\, gestores e demais membros da instituiç
 ão.
 Garanta sua vaga e venha aprender como a comunicação visual pode 
 transformar positivamente o cotidiano institucional!
 
LOCATION:Av. Gentil Bittencourt\, 1144.
DTSTART:20250215T110000Z
DTEND:20250222T150000Z
DTSTAMP:20250203T174536Z
ORGANIZER;CN=Portal de Eventos - Centro Universitário Fibra:MAILTO:eventos
 @fibrapara.edu.br
GEO:-1.455183;-48.482397
X-APPLE-STRUCTURED-LOCATION;VALUE=URI;X-ADDRESS=Av. Gentil Bittencourt\, 11
 44.;X-APPLE-RADIUS=72;X-TITLE=Centro Universitário Fibra:-1.455183;-48.48
 2397
END:VEVENT
END:VCALENDAR