BEGIN:VCALENDAR
VERSION:2.0
PRODID:Events Booking
BEGIN:VEVENT
UID:69e901ebe1022
SUMMARY:Comportamento e bem-estar de bovinos: entender para manejar
DESCRIPTION:Saber manejar os animais é essencial para conseguir manter a o
 rdenação no sistema produtivo\, além de conseguir evitar problemas rela
 cionados a contusões advindas de acidentes que possam ocorrer com esses a
 nimais na propriedade e assim manter um bom padrão de qualidade da carne.
  Em muitas propriedades\, principalmente as que criam animais zebuínos\, 
 percebe-se a reatividade e nervosismo destes durante o manejo\, seja para 
 vacinar\, trocar de piquete\, ou transporte desses animais para o abatedou
 ro. Estudar e conhecer sobre o comportamento natural desses animais facili
 ta a lida no campo e o planejamento de instalações mais adequadas para o
  manejo (Lima e Lima\, 2012)\, transporte e abate. Os bovinos são animais
  que foram predados ao longo do tempo\, sendo assim classificados como pre
 sas e por isso possuem algumas características que os ajudam na fuga como
  olhos na lateral do crânio e audição aguçada\, gritos e sons altos os
  irritam muito e precisam ser evitados. Assim\, percebe-se que conhecer ta
 is informações acerca do comportamento dos bovinos é essencial para fac
 ilitar o manejo e evitar possíveis danos na qualidade da carne advinda de
 sses animais.
 Inscrição solidária: 1 quilo&nbsp\;de ração para cãe
 s ou gatos entregue no momento do check-in
 Evento aberto ao público ext
 erno.
LOCATION:Av. Gentil Bittencourt\, 1144.
DTSTART:20230126T170000Z
DTEND:20230126T210000Z
DTSTAMP:20230120T180342Z
ORGANIZER;CN=Portal de Eventos - Centro Universitário Fibra:MAILTO:eventos
 @fibrapara.edu.br
GEO:-1.455183;-48.482397
X-APPLE-STRUCTURED-LOCATION;VALUE=URI;X-ADDRESS=Av. Gentil Bittencourt\, 11
 44.;X-APPLE-RADIUS=72;X-TITLE=Centro Universitário Fibra:-1.455183;-48.48
 2397
END:VEVENT
END:VCALENDAR