BEGIN:VCALENDAR
VERSION:2.0
PRODID:Events Booking
BEGIN:VEVENT
UID:69e9ff64a8de6
SUMMARY:Comitê de Ética e a Formação do Pesquisador Ético na Saúde
DESCRIPTION:
LOCATION:Av. Gentil Bittencourt\, 1144.
DTSTART:20250522T130000Z
DTEND:20250522T030000Z
DTSTAMP:20250519T235537Z
ORGANIZER;CN=Portal de Eventos - Centro Universitário Fibra:MAILTO:eventos
 @fibrapara.edu.br
GEO:-1.455183;-48.482397
X-APPLE-STRUCTURED-LOCATION;VALUE=URI;X-ADDRESS=Av. Gentil Bittencourt\, 11
 44.;X-APPLE-RADIUS=72;X-TITLE=Centro Universitário Fibra:-1.455183;-48.48
 2397
END:VEVENT
END:VCALENDAR