BEGIN:VCALENDAR
VERSION:2.0
PRODID:Events Booking
BEGIN:VEVENT
UID:69e9fd8f0b44f
SUMMARY:Palestra “ O Cinema Paraense em tempos de evolução do audiovisu
 al brasileiro”
DESCRIPTION:Palestra com introdução da história do cinema paraense e ref
 lexões sobre sua participação no audiovisual brasileiro. O crítico e p
 rofessor de cinema Marco Antonio Moreira apresentará fatos vinculados à 
 história do cinema paraense em diversas décadas com análises sobre film
 es\, cineastas e contextos históricos.A palestra terá participação do 
 cineasta e roteirista Roger Elarrat\, realizador de diversos filmes como M
 iguel Miguel e a série de TV Amazônia Oculta.
 Inscrição Solidária: 
 um quilo de alimento não perecível.
 &nbsp\;
 Evento aberto ao públic
 o externo.
LOCATION:Av. Gentil Bittencourt\, 1144.
DTSTART:20230525T220000Z
DTEND:20230526T010000Z
DTSTAMP:20230513T152819Z
ORGANIZER;CN=Portal de Eventos - Centro Universitário Fibra:MAILTO:eventos
 @fibrapara.edu.br
GEO:-1.455183;-48.482397
X-APPLE-STRUCTURED-LOCATION;VALUE=URI;X-ADDRESS=Av. Gentil Bittencourt\, 11
 44.;X-APPLE-RADIUS=72;X-TITLE=Centro Universitário Fibra:-1.455183;-48.48
 2397
END:VEVENT
END:VCALENDAR