BEGIN:VCALENDAR
VERSION:2.0
PRODID:Events Booking
BEGIN:VEVENT
UID:69e9ebf050442
SUMMARY:Cineclube Fibra Sessão Psi - Estamira
DESCRIPTION:Em referência ao&nbsp\;Dia&nbsp\;Nacional&nbsp\;de Luta Antima
 nicomial\, que é comemorado anualmente no&nbsp\;dia&nbsp\;18 de maio\, o 
 curso de Psicologia do Centro Universitário Fibra\, realizará\, no próx
 imo&nbsp\;dia&nbsp\;17\, mais uma Sessão Psi do CineClube Fibra\, com a e
 xibição do documentário Estamira. Após a exibição\, haverá debate c
 omandado pela Profa. Dra. Ana Silva (Psicóloga) e por Vitor igor (Farmac
 êutico CAPS AD/MLA).De 2005\, Estamira foi produzido por Marcos Prado e d
 irigido por José Padilha. O filme acompanha a vida de uma mulher que olha
  o mundo através de seu trabalho em um aterro sanitário no Rio de Janeir
 o. Estamira sofre do chamado Transtorno de Esquizofrenia\, condição psic
 opatológica na qual o indivíduo acometido sofre com delírios\, alucina
 ções e desenvolve um discurso desorganizado com falas idiossincráticas 
 e prolixas.&nbsp\;Percebemos na boca de Estamira o poder da palavra\, sua 
 indignação diante das violências que sofreu\, mas\, sobretudo\, o poder
  de criação e resistência de seu testemunho.
 &nbsp\;
 &nbsp\;
 Even
 to aberto ao público externo
LOCATION:Av. Gentil Bittencourt\, 1144.
DTSTART:20230517T110000Z
DTEND:20230517T150000Z
DTSTAMP:20230513T152327Z
ORGANIZER;CN=Portal de Eventos - Centro Universitário Fibra:MAILTO:eventos
 @fibrapara.edu.br
GEO:-1.455183;-48.482397
X-APPLE-STRUCTURED-LOCATION;VALUE=URI;X-ADDRESS=Av. Gentil Bittencourt\, 11
 44.;X-APPLE-RADIUS=72;X-TITLE=Centro Universitário Fibra:-1.455183;-48.48
 2397
END:VEVENT
END:VCALENDAR