BEGIN:VCALENDAR
VERSION:2.0
PRODID:Events Booking
BEGIN:VEVENT
UID:69e9fe755581d
SUMMARY:Cineclube Fibra: Wiplash - Em Busca da Perfeição
DESCRIPTION:O Cineclube Fibra é uma atividade do Programa de Extensão Fib
 ra\, Arte e Cultura\, que tem como objetivo aliar cada vez mais o mundo ac
 adêmico à arte e à cultura. A entrada é franca e aberta a todos os alu
 nos da instituição\, assim como ao público externo em geral.
 &nbsp\;
 
 Sobre o filme:
 Andrew sonha em ser o melhor baterista de sua geração
 . Ele chama a atenção do impiedoso mestre do jazz Terence Fletcher\, que
  ultrapassa os limites e transforma seu sonho em uma obsessão\, colocando
  em risco a saúde física e mental do jovem músico.
 &nbsp\;
 &nbsp\;
LOCATION:Av. Gentil Bittencourt\, 1144.
DTSTART:20231028T190000Z
DTEND:20231028T220000Z
DTSTAMP:20231019T171618Z
ORGANIZER;CN=Portal de Eventos - Centro Universitário Fibra:MAILTO:eventos
 @fibrapara.edu.br
GEO:-1.455183;-48.482397
X-APPLE-STRUCTURED-LOCATION;VALUE=URI;X-ADDRESS=Av. Gentil Bittencourt\, 11
 44.;X-APPLE-RADIUS=72;X-TITLE=Centro Universitário Fibra:-1.455183;-48.48
 2397
END:VEVENT
END:VCALENDAR