BEGIN:VCALENDAR
VERSION:2.0
PRODID:Events Booking
BEGIN:VEVENT
UID:69e9fe8a33440
SUMMARY:Cineclube Fibra - No Ritmo do Coração
DESCRIPTION:O Cineclube Fibra do mês de março vai inaugurar a \"Sessão I
 nclusão\"\, com a exibição do filme \"No Ritmo do Coração\"\, vencedo
 r do Oscar de Melhor Filme do ano de 2022. Após a exibição\, a Profa. D
 ra. Kátia Lima\, professora de Libras dos cursos do Centro Universitário
  Fibra\, conversará com o público sobre as temáticas abordadas no filme
 .
 
LOCATION:Av. Gentil Bittencourt\, 1144.
DTSTART:20240323T190000Z
DTEND:20240323T220000Z
DTSTAMP:20240320T143243Z
ORGANIZER;CN=Portal de Eventos - Centro Universitário Fibra:MAILTO:eventos
 @fibrapara.edu.br
GEO:-1.455183;-48.482397
X-APPLE-STRUCTURED-LOCATION;VALUE=URI;X-ADDRESS=Av. Gentil Bittencourt\, 11
 44.;X-APPLE-RADIUS=72;X-TITLE=Centro Universitário Fibra:-1.455183;-48.48
 2397
END:VEVENT
END:VCALENDAR