BEGIN:VCALENDAR
VERSION:2.0
PRODID:Events Booking
BEGIN:VEVENT
UID:69e9fe89749d8
SUMMARY:Cineclube Fibra Sessão Psi - Ensaio Sobre a Cegueira
DESCRIPTION:O&nbsp\;Cineclube Fibra&nbsp\;de abril apresentará a&nbsp\;pri
 meira Sessão Psi de 2025\, com a exibição do filme&nbsp\;Ensaio sobre a
  Cegueira\, baseado no clássico romance homônimo do escritor português&
 nbsp\;José Saramago. Dirigido por&nbsp\;Fernando Meirelles\, o longa cont
 a com elenco de destaque\, incluindo&nbsp\;Julianne Moore\,&nbsp\;Mark Ruf
 falo\,&nbsp\;Danny Glover\,&nbsp\;Gael García Bernal&nbsp\;e&nbsp\;Alice 
 Braga.
 Após a sessão\, haverá uma conversa com o público mediada pel
 o&nbsp\;professor Marco Antônio Moreira\, crítico de cinema e cineclubis
 ta\, e pelo&nbsp\;professor Ronildo Silva\, docente do curso de Psicologia
  do Centro Universitário Fibra. O debate abordará as temáticas centrais
  do filme e suas possíveis leituras à luz da Psicologia.
 
LOCATION:Av. Gentil Bittencourt\, 1144.
DTSTART:20250426T190000Z
DTEND:20250426T210000Z
DTSTAMP:20250422T222009Z
ORGANIZER;CN=Portal de Eventos - Centro Universitário Fibra:MAILTO:eventos
 @fibrapara.edu.br
GEO:-1.455183;-48.482397
X-APPLE-STRUCTURED-LOCATION;VALUE=URI;X-ADDRESS=Av. Gentil Bittencourt\, 11
 44.;X-APPLE-RADIUS=72;X-TITLE=Centro Universitário Fibra:-1.455183;-48.48
 2397
END:VEVENT
END:VCALENDAR