BEGIN:VCALENDAR
VERSION:2.0
PRODID:Events Booking
BEGIN:VEVENT
UID:69e9fecd0179a
SUMMARY:Cineclube Fibra - Sessão Psi: Dor e Glória
DESCRIPTION:O&nbsp\;primeiro Cineclube&nbsp\;Fibra de 2024 está muito espe
 cial! Teremos o retorno da Sessão Psi\, pensada juntamente com o curso de
  Psicologia do Centro Universitário Fibra. Desta vez\, o filme escolhido 
 foi Dor e Glória\,&nbsp\;dirigido por Pedro Almodóvar e estrelado por Pe
 nélope Cruz e Antonio Banderas. Após a exibição\, o Prof. Dr. Ronildo 
 Silva\, docente do curso de Psicologia do Centro Universitário Fibra\,&nb
 sp\;e o psicanalista Alessandro Bacchini (Corpo Freudiano/Seção Belém) 
 conversarão com o público presente sobre as temáticas abordadas no film
 e.
 Sobre o filme
 Salvador Mallo\, diretor de cinema em declínio\, rel
 embra sua vida e carreira desde sua infância na cidade de Valência\, nos
  anos 60. Salvador tem lembranças vívidas de seus primeiros amores\, seu
  primeiro desejo\, sua primeira paixão adulta na Madrid dos anos 80 e seu
  interesse precoce no cinema.
 
DTSTART:20240302T190000Z
DTEND:20240302T220000Z
DTSTAMP:20240227T142920Z
ORGANIZER;CN=Portal de Eventos - Centro Universitário Fibra:MAILTO:eventos
 @fibrapara.edu.br
END:VEVENT
END:VCALENDAR