BEGIN:VCALENDAR
VERSION:2.0
PRODID:Events Booking
BEGIN:VEVENT
UID:69e9fe113e4b8
SUMMARY:Cineclube Fibra - O Palhaço
DESCRIPTION:O&nbsp\;Cineclube&nbsp\;Fibra é uma atividade do Programa de E
 xtensão \"Fibra\, Arte &amp\; Cultura\"\, que promove a exibição de fil
 mes de arte voltados para toda a comunidade acadêmica\, assim como para a
  sociedade em geral. A entrada é franca.
 &nbsp\;
 \"O Palhaço\" é um
  filme sensível e poético que acompanha a jornada de Benjamim (Selton Me
 llo)\, um artista de circo que\, ao lado de seu pai Valdemar (Paulo José)
 \, forma a dupla de palhaços Pangaré e Puro Sangue. Apesar de levar aleg
 ria ao público\, Benjamim atravessa uma crise existencial e questiona sua
  identidade e propósito\, embarcando em uma busca por significado além d
 a lona do circo. Com uma fotografia delicada\, uma trilha sonora marcante 
 e atuações emocionantes\, o filme explora temas como pertencimento\, son
 hos e a essência da felicidade\, tornando-se uma bela reflexão sobre a v
 ida e a arte.
 
DTSTART:20250222T190000Z
DTEND:20250222T220000Z
DTSTAMP:20250217T235650Z
ORGANIZER;CN=Portal de Eventos - Centro Universitário Fibra:MAILTO:eventos
 @fibrapara.edu.br
END:VEVENT
END:VCALENDAR