BEGIN:VCALENDAR
VERSION:2.0
PRODID:Events Booking
BEGIN:VEVENT
UID:69e9eb1633bf4
SUMMARY:Cineclube Fibra: Pacarrete
DESCRIPTION:No mês de junho\, o Cineclube Fibra irá exibir o filme \"Paca
 rrete\"\, obra cinematográfica brasileira que aborda de forma sensível e
  emocionante a vida na terceira idade. O filme retrata a história de uma 
 bailarina aposentada que busca realizar seu último grande sonho: dançar 
 no palco da cidade onde nasceu. Com uma narrativa envolvente e atuações 
 brilhantes\, \"Pacarrete\" nos convida a refletir sobre os desafios\, as e
 moções e a resiliência dos indivíduos na terceira idade.A sessão é a
 berta a todos\, independentemente da idade\, especialmente aos nossos quer
 idos cinéfilos da terceira idade. Será uma oportunidade para refletirmos
  sobre as vivências\, desafios e conquistas da vida na maturidade.Após a
  exibição\, haverá debate sobre as temáticas apresentadas no filme\, c
 om a participação dos professores Marcos Valério Reis\, Marco Antônio 
 Moreira e Ronildo Silva.
DTSTART:20230617T190000Z
DTEND:20230617T220000Z
DTSTAMP:20230603T194716Z
ORGANIZER;CN=Portal de Eventos - Centro Universitário Fibra:MAILTO:eventos
 @fibrapara.edu.br
END:VEVENT
END:VCALENDAR